BEGIN:VCALENDAR
VERSION:2.0
PRODID:-//Gantner Instruments - ECPv6.15.18//NONSGML v1.0//EN
CALSCALE:GREGORIAN
METHOD:PUBLISH
X-ORIGINAL-URL:https://www.gantner-instruments.com/de/
X-WR-CALDESC:Veranstaltungen für Gantner Instruments
REFRESH-INTERVAL;VALUE=DURATION:PT1H
X-Robots-Tag:noindex
X-PUBLISHED-TTL:PT1H
BEGIN:VTIMEZONE
TZID:UTC
BEGIN:STANDARD
TZOFFSETFROM:+0000
TZOFFSETTO:+0000
TZNAME:UTC
DTSTART:20250101T000000
END:STANDARD
END:VTIMEZONE
BEGIN:VEVENT
DTSTART;TZID=UTC:20260422T090000
DTEND;TZID=UTC:20260423T163000
DTSTAMP:20260419T154933
CREATED:20260318T101432Z
LAST-MODIFIED:20260415T092613Z
UID:96175-1776848400-1776961800@www.gantner-instruments.com
SUMMARY:The Battery Show South 2026
DESCRIPTION:Sind Sie neugierig auf die neuesten Innovationen von Gantner Instruments? Lesen Sie unseren Blog über Batterietests und entdecken Sie\, was wir für die Battery Show South 2026 geplant haben!
URL:https://www.gantner-instruments.com/de/event/the-battery-show-south-2026/
LOCATION:Charlotte Convention Center\, 501 S College St\, Charlotte\, NC\, 28202\, United States
ATTACH;FMTTYPE=image/png:https://www.gantner-instruments.com/wp-content/uploads/2026/03/blog-header-event-2025-9.png
END:VEVENT
BEGIN:VEVENT
DTSTART;TZID=UTC:20260428T083000
DTEND;TZID=UTC:20260428T170000
DTSTAMP:20260419T154933
CREATED:20260115T130140Z
LAST-MODIFIED:20260209T093247Z
UID:94587-1777365000-1777395600@www.gantner-instruments.com
SUMMARY:Gantner Instruments TechDay DACH 2026
DESCRIPTION:Am 28. April 2026 lädt Gantner Instruments zum GI TechDay DACH 2026 in das Headquarter nach Schruns / Österreich ein. Erleben Sie eine kostenlose Fachveranstaltung rund um das Testen und Prüfen von Elektroantrieben\, Batterien und Brennstoffzellen.
URL:https://www.gantner-instruments.com/de/event/gantner-instruments-techday-dach-2026/
LOCATION:Gantner Instruments Schruns\, Montafoner Str. 4\, Schruns\, Vorarlberg\, 6780\, Austria
ATTACH;FMTTYPE=image/png:https://www.gantner-instruments.com/wp-content/uploads/2026/01/blog-header-event-2026-3.png
END:VEVENT
END:VCALENDAR