BEGIN:VCALENDAR
VERSION:2.0
PRODID:-//Gantner Instruments - ECPv6.15.18//NONSGML v1.0//EN
CALSCALE:GREGORIAN
METHOD:PUBLISH
X-ORIGINAL-URL:https://www.gantner-instruments.com/de/
X-WR-CALDESC:Veranstaltungen für Gantner Instruments
REFRESH-INTERVAL;VALUE=DURATION:PT1H
X-Robots-Tag:noindex
X-PUBLISHED-TTL:PT1H
BEGIN:VTIMEZONE
TZID:UTC
BEGIN:STANDARD
TZOFFSETFROM:+0000
TZOFFSETTO:+0000
TZNAME:UTC
DTSTART:20250101T000000
END:STANDARD
END:VTIMEZONE
BEGIN:VEVENT
DTSTART;TZID=UTC:20261001T083000
DTEND;TZID=UTC:20261001T170000
DTSTAMP:20260420T013725
CREATED:20260331T125056Z
LAST-MODIFIED:20260401T084649Z
UID:96511-1790843400-1790874000@www.gantner-instruments.com
SUMMARY:TechDay SHM 2026
DESCRIPTION:Nehmen Sie am GI TechDay SHM am 1. Oktober 2026 in Lauf an der Pegnitz teil\, um die neuesten Entwicklungen in der Zustandsüberwachung von Bauwerken und Strukturen zu erkunden und sich mit Branchenexperten auszutauschen.
URL:https://www.gantner-instruments.com/de/event/techday-shm-2026/
LOCATION:GI Lauf an der Pegnitz\, Oskar-Sembach-Ring 26a\, Lauf an der Pegnitz\, 91207\, Germany
ATTACH;FMTTYPE=image/png:https://www.gantner-instruments.com/wp-content/uploads/2026/03/blog-header-event-1.png
END:VEVENT
BEGIN:VEVENT
DTSTART;TZID=UTC:20261020T090000
DTEND;TZID=UTC:20261022T163000
DTSTAMP:20260420T013725
CREATED:20260325T100236Z
LAST-MODIFIED:20260325T100236Z
UID:96179-1792486800-1792686600@www.gantner-instruments.com
SUMMARY:Hydrogen Technology Expo 2026
DESCRIPTION:Besuchen Sie uns auf der Hydrogen Technology Expo in Hamburg vom 20. bis 22. Oktober 2026\, um Kontakte zu Branchenführern zu knüpfen und die neuesten Innovationen in der Wasserstoff- und Brennstoffzellentechnologie zu erkunden.
URL:https://www.gantner-instruments.com/de/event/hydrogen-technology-expo-2026/
LOCATION:Hamburg Messe\, Messeplatz 1\, Hamburg\, 20357\, Germany
ATTACH;FMTTYPE=image/png:https://www.gantner-instruments.com/wp-content/uploads/2026/03/hydrogen-technoloy-germany-2026-header.png
END:VEVENT
BEGIN:VEVENT
DTSTART;TZID=UTC:20261027T090000
DTEND;TZID=UTC:20261029T163000
DTSTAMP:20260420T013725
CREATED:20260319T135843Z
LAST-MODIFIED:20260319T135843Z
UID:96144-1793091600-1793291400@www.gantner-instruments.com
SUMMARY:Automotive Testing Expo Novi 2026
DESCRIPTION:Visit us at Automotive Testing Expo Novi (Oct 21–23\, 2025)\, booth 8060\, to explore Q.series X DAQ systems with 1500 VDC isolation and GI.bench software for fast data recording and visualization.
URL:https://www.gantner-instruments.com/de/event/automotive-testing-expo-novi-2026/
LOCATION:Suburban Collection Showplace\, Novi\, Michigan\, 46100 Grand River Ave\, Novi\, MI\, 48374\, United States
ATTACH;FMTTYPE=image/png:https://www.gantner-instruments.com/wp-content/uploads/2026/03/automotive-testing-expo-novi-26.png
END:VEVENT
END:VCALENDAR