BEGIN:VCALENDAR
VERSION:2.0
PRODID:-//Gantner Instruments - ECPv6.15.18//NONSGML v1.0//EN
CALSCALE:GREGORIAN
METHOD:PUBLISH
X-WR-CALNAME:Gantner Instruments
X-ORIGINAL-URL:https://www.gantner-instruments.com/de/
X-WR-CALDESC:Veranstaltungen für Gantner Instruments
REFRESH-INTERVAL;VALUE=DURATION:PT1H
X-Robots-Tag:noindex
X-PUBLISHED-TTL:PT1H
BEGIN:VTIMEZONE
TZID:UTC
BEGIN:STANDARD
TZOFFSETFROM:+0000
TZOFFSETTO:+0000
TZNAME:UTC
DTSTART:20250101T000000
END:STANDARD
END:VTIMEZONE
BEGIN:VEVENT
DTSTART;TZID=UTC:20260908T090000
DTEND;TZID=UTC:20260910T163000
DTSTAMP:20260419T235220
CREATED:20260407T093619Z
LAST-MODIFIED:20260415T081734Z
UID:96622-1788858000-1789057800@www.gantner-instruments.com
SUMMARY:Deutscher Luft- und Raumfahrtkongress 2026
DESCRIPTION:Treffen Sie uns vom 08-10. September auf dem Deutschen Luft- und Raumfahrtkongress 2026 in Aachen! Wir präsentieren unsere neuesten Innovationen für die Luft- und Raumfahrt. Besuchen Sie unseren Stand\, um mehr zu erfahren.
URL:https://www.gantner-instruments.com/de/event/deutscher-luft-und-raumfahrtkongress-2026/
LOCATION:RWTH Aachen University\, Tempelgraben 55\, Aachen\, Nordrhein-Westfalen\, 52062\, Germany
ATTACH;FMTTYPE=image/png:https://www.gantner-instruments.com/wp-content/uploads/2026/04/dlrk-header.png
END:VEVENT
BEGIN:VEVENT
DTSTART;TZID=UTC:20260908T090000
DTEND;TZID=UTC:20260910T163000
DTSTAMP:20260419T235220
CREATED:20260413T123449Z
LAST-MODIFIED:20260413T123449Z
UID:96726-1788858000-1789057800@www.gantner-instruments.com
SUMMARY:28. DWT Marineworkshop 2026
DESCRIPTION:Nehmen Sie am DWT Marine Workshop 2026 teil. Entdecken Sie Innovationen in der maritimen Verteidigung\, Networking und Expertengespräche in Linstow.
URL:https://www.gantner-instruments.com/de/event/28-dwt-marineworkshop-2026/
LOCATION:Van der Valk Resort Linstow\, Krakower Chaussee 1\, Linstow\, Mecklenburg-Vorpommern\, 18292\, Germany
ATTACH;FMTTYPE=image/png:https://www.gantner-instruments.com/wp-content/uploads/2026/04/blog-header-event-6.png
END:VEVENT
BEGIN:VEVENT
DTSTART;TZID=UTC:20260921T090000
DTEND;TZID=UTC:20260923T163000
DTSTAMP:20260419T235220
CREATED:20260413T072500Z
LAST-MODIFIED:20260413T072500Z
UID:96723-1789981200-1790181000@www.gantner-instruments.com
SUMMARY:Shenzhen eVTOL Expo 2026
DESCRIPTION:Treffen Sie uns auf der Shenzhen eVTOL Expo 2026\, 21. bis 23. September. Erkunden Sie Innovationen im Bereich der Wirtschaft in geringer Höhe und der eVTOL-Technologie.
URL:https://www.gantner-instruments.com/de/event/shenzhen-evtol-expo-2026/
LOCATION:Yanzi Lake International Convention and Exhibition Center\, 36 Ruijing Road\, Shenzhen\, Pingshan District\, China
ATTACH;FMTTYPE=image/png:https://www.gantner-instruments.com/wp-content/uploads/2026/04/blog-header-event-5.png
END:VEVENT
END:VCALENDAR