BEGIN:VCALENDAR
VERSION:2.0
PRODID:-//Gantner Instruments - ECPv6.15.18//NONSGML v1.0//EN
CALSCALE:GREGORIAN
METHOD:PUBLISH
X-WR-CALNAME:Gantner Instruments
X-ORIGINAL-URL:https://www.gantner-instruments.com/de/
X-WR-CALDESC:Veranstaltungen für Gantner Instruments
REFRESH-INTERVAL;VALUE=DURATION:PT1H
X-Robots-Tag:noindex
X-PUBLISHED-TTL:PT1H
BEGIN:VTIMEZONE
TZID:UTC
BEGIN:STANDARD
TZOFFSETFROM:+0000
TZOFFSETTO:+0000
TZNAME:UTC
DTSTART:20250101T000000
END:STANDARD
END:VTIMEZONE
BEGIN:VEVENT
DTSTART;TZID=UTC:20260609T090000
DTEND;TZID=UTC:20260611T163000
DTSTAMP:20260419T184602
CREATED:20251125T101450Z
LAST-MODIFIED:20260415T083509Z
UID:93805-1780995600-1781195400@www.gantner-instruments.com
SUMMARY:The Battery Show Europe 2026
DESCRIPTION:Sind Sie neugierig auf die neuesten Innovationen von Gantner Instruments? Lesen Sie unseren Blog über Batterietests und entdecken Sie\, was wir für die Battery Show Europe 2026 geplant haben!
URL:https://www.gantner-instruments.com/de/event/the-battery-show-europe-2026/
LOCATION:Messe Stuttgart\, Messepiazza 1\, Stuttgart\, 70629\, Germany
ATTACH;FMTTYPE=image/png:https://www.gantner-instruments.com/wp-content/uploads/2025/11/blog-header-event-2026-4.png
END:VEVENT
BEGIN:VEVENT
DTSTART;TZID=UTC:20260617T090000
DTEND;TZID=UTC:20260618T163000
DTSTAMP:20260419T184602
CREATED:20260112T131243Z
LAST-MODIFIED:20260114T141739Z
UID:94477-1781686800-1781800200@www.gantner-instruments.com
SUMMARY:GI.bench Training 17.-18. Juni 2026
DESCRIPTION:GI.bench Trainings werden regelmäßig an unserem deutschen Hauptsitz angeboten – sowohl als Basic- als auch als Expert-Programme. Auf Anfrage bieten wir zudem flexible Online- oder Vor-Ort-Firmenschulungen für Teams weltweit an.
URL:https://www.gantner-instruments.com/de/event/gi-bench-training-17-18-juni-2026/
LOCATION:GI Lauf an der Pegnitz\, Oskar-Sembach-Ring 26a\, Lauf an der Pegnitz\, 91207\, Germany
ATTACH;FMTTYPE=image/png:https://www.gantner-instruments.com/wp-content/uploads/2026/01/gi-bench-training-2606.png
END:VEVENT
END:VCALENDAR