BEGIN:VCALENDAR
VERSION:2.0
PRODID:-//Gantner Instruments - ECPv6.15.18//NONSGML v1.0//EN
CALSCALE:GREGORIAN
METHOD:PUBLISH
X-WR-CALNAME:Gantner Instruments
X-ORIGINAL-URL:https://www.gantner-instruments.com/de/
X-WR-CALDESC:Veranstaltungen für Gantner Instruments
REFRESH-INTERVAL;VALUE=DURATION:PT1H
X-Robots-Tag:noindex
X-PUBLISHED-TTL:PT1H
BEGIN:VTIMEZONE
TZID:UTC
BEGIN:STANDARD
TZOFFSETFROM:+0000
TZOFFSETTO:+0000
TZNAME:UTC
DTSTART:20250101T000000
END:STANDARD
END:VTIMEZONE
BEGIN:VEVENT
DTSTART;TZID=UTC:20260505T090000
DTEND;TZID=UTC:20260507T163000
DTSTAMP:20260419T172346
CREATED:20260203T075102Z
LAST-MODIFIED:20260203T075102Z
UID:94819-1777971600-1778171400@www.gantner-instruments.com
SUMMARY:iCampus Cottbus Konferenz (iCCC 2026)
DESCRIPTION:Die iCampus Cottbus Conference (iCCC 2026) findet vom 5. bis 7. Mai 2026 in Cottbus statt und bringt Wissenschaft und Industrie zusammen\, um den Technologietransfer zu fördern. Die Konferenz konzentriert sich auf Sensoren\, MEMS\, Digitalisierung und KI\, mit Einblicken in zukünftige Technologien und reale Anwendungen.
URL:https://www.gantner-instruments.com/de/event/icampus-cottbus-konferenz-iccc-2026/
LOCATION:Radisson Blu Conference Hotel Cottbus\, Vetschauer Straße 12\, Cottbus\, 03046\, Germany
ATTACH;FMTTYPE=image/png:https://www.gantner-instruments.com/wp-content/uploads/2026/01/iccc26.png
END:VEVENT
BEGIN:VEVENT
DTSTART;TZID=UTC:20260512T090000
DTEND;TZID=UTC:20260512T163000
DTSTAMP:20260419T172346
CREATED:20251106T090057Z
LAST-MODIFIED:20251106T095129Z
UID:93508-1778576400-1778603400@www.gantner-instruments.com
SUMMARY:Instrumentation\, Analysis & Testing Exhibition 2026
DESCRIPTION:Besuchen Sie uns am 12. Mai 2026 auf der Silverstone Race Circuit\, UK\, auf der Instrumentation\, Analysis & Testing Exhibition 2026 – der führenden Veranstaltung für Fachleute aus den Bereichen Messen\, Testen und Analysieren.\nEntdecken Sie die neuesten Innovationen von Gantner Instruments mit GI Systems\, die fortschrittliche Lösungen für hochpräzise Datenerfassung\, Echtzeitüberwachung und intelligente Regelungen bieten.
URL:https://www.gantner-instruments.com/de/event/instrumentation-analysis-testing-exhibition-2026/
LOCATION:Halls 4 & 5\, Silverstone Wing\, Silverstone Race Circuit\, Silverstone Circuit\, Silverstone Wing\, Towcester\, Northamptonshire\, NN12 8TN\, United Kingdom
ATTACH;FMTTYPE=image/png:https://www.gantner-instruments.com/wp-content/uploads/2025/11/blog-header-event-2026-2.png
END:VEVENT
BEGIN:VEVENT
DTSTART;TZID=UTC:20260512T090000
DTEND;TZID=UTC:20260513T163000
DTSTAMP:20260419T172346
CREATED:20260225T124302Z
LAST-MODIFIED:20260225T124302Z
UID:95246-1778576400-1778689800@www.gantner-instruments.com
SUMMARY:GI.training in NRW
DESCRIPTION:Besuchen Sie Gantner Instruments in Nordrhein-Westfalen für das GI.basic training am 12. Mai 2026 und das GI.professional training am 13. Mai 2026 in Dortmund. Erweitern Sie Ihr Wissen über Datenerfassung und GI.bench mit praktischen Übungen und der neuesten Messtechnologie.
URL:https://www.gantner-instruments.com/de/event/gi-training-in-nrw/
LOCATION:Lennhof – Dortmund\, Menglinghauser Str. 20\, Dortmund\, 44227\, Germany
ATTACH;FMTTYPE=image/png:https://www.gantner-instruments.com/wp-content/uploads/2025/02/2505-gi-training.png
END:VEVENT
BEGIN:VEVENT
DTSTART;TZID=UTC:20260513T090000
DTEND;TZID=UTC:20260515T163000
DTSTAMP:20260419T172346
CREATED:20260324T133031Z
LAST-MODIFIED:20260324T133031Z
UID:96161-1778662800-1778862600@www.gantner-instruments.com
SUMMARY:Internationale Batterie-Messe China
DESCRIPTION:Die 18. China International Battery Fair (CIBF2026) in Shenzhen vom Mai  13-15 bringt mehr als 3.000 Aussteller aus der weltweiten Batterieindustrie zusammen. Besuchen Sie uns an Stand 12B005.
URL:https://www.gantner-instruments.com/de/event/internationale-batterie-messe-china/
LOCATION:Shenzhen World Exhibition and Convention Center\, China\, Guangdong Province\, Shenzhen\, Baoan\, 福海街道展城路1号 邮政编码: 518103\, Shenzhen\, Guangdong\, 518103\, China
ATTACH;FMTTYPE=image/png:https://www.gantner-instruments.com/wp-content/uploads/2026/03/cibf-2026-header-1.png
END:VEVENT
BEGIN:VEVENT
DTSTART;TZID=UTC:20260513T090000
DTEND;TZID=UTC:20260515T163000
DTSTAMP:20260419T172346
CREATED:20260331T093141Z
LAST-MODIFIED:20260331T093141Z
UID:96744-1778662800-1778862600@www.gantner-instruments.com
SUMMARY:China International Battery Fair
DESCRIPTION:Entdecken Sie auf der CIBF2026 fortschrittliche Testlösungen für Batterien und Elektrofahrzeuge. Besuchen Sie Stand 12B005 und erkunden Sie hochpräzise Messsysteme für komplexe Validierungsanforderungen.
URL:https://www.gantner-instruments.com/de/event/china-international-battery-fair/
LOCATION:Shenzhen World Exhibition and Convention Center\, China\, Guangdong Province\, Shenzhen\, Baoan\, 福海街道展城路1号 邮政编码: 518103\, Shenzhen\, Guangdong\, 518103\, China
ATTACH;FMTTYPE=image/png:https://www.gantner-instruments.com/wp-content/uploads/2026/03/cibf-2026-header-1-1.png
END:VEVENT
BEGIN:VEVENT
DTSTART;TZID=UTC:20260518T090000
DTEND;TZID=UTC:20260520T163000
DTSTAMP:20260419T172346
CREATED:20260408T092408Z
LAST-MODIFIED:20260415T085734Z
UID:96739-1779094800-1779294600@www.gantner-instruments.com
SUMMARY:Acoustic Emission Working Group General Meeting 2026
DESCRIPTION:Treffen Sie Gantner Instruments auf der AEWG-Hauptversammlung in Glassboro\, NJ\, vom 18. bis 20. Mai 2026. Erkunden Sie akustische Emissionstechnologie\, Sensorik und reale Anwendungen.
URL:https://www.gantner-instruments.com/de/event/generalversammlung-der-arbeitsgruppe-akustische-emissionen-2026/
LOCATION:Rowan University in Glassboro\, 201 Mullica Hill Rd\, Glassboro\, NJ\, 08028\, United States
ATTACH;FMTTYPE=image/png:https://www.gantner-instruments.com/wp-content/uploads/2026/04/blog-header-event-2.png
END:VEVENT
BEGIN:VEVENT
DTSTART;TZID=UTC:20260520T090000
DTEND;TZID=UTC:20260521T163000
DTSTAMP:20260419T172346
CREATED:20260408T093304Z
LAST-MODIFIED:20260408T093304Z
UID:96736-1779267600-1779381000@www.gantner-instruments.com
SUMMARY:Mitutoyo Batterie Forum 2026
DESCRIPTION:Treffen Sie uns auf dem Mitutoyo Battery Forum 2026 in Leonberg vom 20. bis 21. Mai. Entdecken Sie Lösungen für die Batterieproduktion und Qualitätssicherung.
URL:https://www.gantner-instruments.com/de/event/mitutoyo-batterie-forum-2026/
LOCATION:Mitutoyo EV and Battery Competence Center Leonberg\, Am Langenbühl 3\, Leonberg\, 71229\, Germany
ATTACH;FMTTYPE=image/png:https://www.gantner-instruments.com/wp-content/uploads/2026/04/batterietagung.png
END:VEVENT
BEGIN:VEVENT
DTSTART;TZID=UTC:20260524T090000
DTEND;TZID=UTC:20260527T163000
DTSTAMP:20260419T172346
CREATED:20260408T095651Z
LAST-MODIFIED:20260408T095651Z
UID:96733-1779613200-1779899400@www.gantner-instruments.com
SUMMARY:Internationaler Kongress CSME-CFDSC-CSR
DESCRIPTION:Nehmen Sie am internationalen Kongress CSME-CFDSC-CSR 2026 in Vancouver (24.-27. Mai 2026) an der UBC teil\, der Maschinenbau-\, CFD- und Rheologieexperten aus aller Welt vereint.
URL:https://www.gantner-instruments.com/de/event/internationaler-kongress-csme-cfdsc-csr/
LOCATION:University of British Columbia\, 170-6371 Crescent Road\, Vancouver\, BC\, V6T 1Z2\, Canada
ATTACH;FMTTYPE=image/png:https://www.gantner-instruments.com/wp-content/uploads/2026/04/blog-header-event-3.png
END:VEVENT
END:VCALENDAR