BEGIN:VCALENDAR
VERSION:2.0
PRODID:-//Gantner Instruments - ECPv6.15.18//NONSGML v1.0//EN
CALSCALE:GREGORIAN
METHOD:PUBLISH
X-WR-CALNAME:Gantner Instruments
X-ORIGINAL-URL:https://www.gantner-instruments.com/de/
X-WR-CALDESC:Veranstaltungen für Gantner Instruments
REFRESH-INTERVAL;VALUE=DURATION:PT1H
X-Robots-Tag:noindex
X-PUBLISHED-TTL:PT1H
BEGIN:VTIMEZONE
TZID:UTC
BEGIN:STANDARD
TZOFFSETFROM:+0000
TZOFFSETTO:+0000
TZNAME:UTC
DTSTART:20250101T000000
END:STANDARD
END:VTIMEZONE
BEGIN:VEVENT
DTSTART;TZID=UTC:20260211T090000
DTEND;TZID=UTC:20260211T163000
DTSTAMP:20260419T184506
CREATED:20260202T102702Z
LAST-MODIFIED:20260202T102702Z
UID:94813-1770800400-1770827400@www.gantner-instruments.com
SUMMARY:Zukunftskonferenz Wasserstoff
DESCRIPTION:Nehmen Sie an der Regionalen Wasserstoff-Zukunftskonferenz am 11. Februar 2026 in Augsburg teil und erkunden Sie die Rolle des grünen Wasserstoffs für nachhaltige Energie und Mobilität. Gantner Instruments wird vor Ort sein\, um präzise Messlösungen für Wasserstoffanwendungen zu diskutieren.
URL:https://www.gantner-instruments.com/de/event/zukunftskonferenz-wasserstoff/
LOCATION:IHK Schwaben\, Stettenstraße 1+3\, Augsburg\, Bayern\, 86150\, Germany
ATTACH;FMTTYPE=image/png:https://www.gantner-instruments.com/wp-content/uploads/2026/02/blog-header-event-2025-2.png
END:VEVENT
BEGIN:VEVENT
DTSTART;TZID=UTC:20260211T090000
DTEND;TZID=UTC:20260213T163000
DTSTAMP:20260419T184506
CREATED:20251211T103813Z
LAST-MODIFIED:20251211T103949Z
UID:94175-1770800400-1771000200@www.gantner-instruments.com
SUMMARY:Automatisierung & Testen 2026
DESCRIPTION:Besuchen Sie Gantner Instruments vom 11. bis 13. Februar 2026 und erfahren Sie\, wie intelligente Datenerfassung Produktions- und Testsysteme in zuverlässige\, Industrie 4.0-fähige Datenquellen verwandelt.
URL:https://www.gantner-instruments.com/de/event/automatisierung-testen-2026/
LOCATION:Oval Lingotto\, Turin\, Via Giacomo Mattè Trucco\, 70 Italien\, Torino\, 10126\, Italy
ATTACH;FMTTYPE=image/png:https://www.gantner-instruments.com/wp-content/uploads/2025/12/blog-header-event-2026-3.png
END:VEVENT
END:VCALENDAR