BEGIN:VCALENDAR
VERSION:2.0
PRODID:-//Gantner Instruments - ECPv6.15.18//NONSGML v1.0//EN
CALSCALE:GREGORIAN
METHOD:PUBLISH
X-ORIGINAL-URL:https://www.gantner-instruments.com/de/
X-WR-CALDESC:Veranstaltungen für Gantner Instruments
REFRESH-INTERVAL;VALUE=DURATION:PT1H
X-Robots-Tag:noindex
X-PUBLISHED-TTL:PT1H
BEGIN:VTIMEZONE
TZID:UTC
BEGIN:STANDARD
TZOFFSETFROM:+0000
TZOFFSETTO:+0000
TZNAME:UTC
DTSTART:20240101T000000
END:STANDARD
END:VTIMEZONE
BEGIN:VEVENT
DTSTART;TZID=UTC:20250901T080000
DTEND;TZID=UTC:20250905T170000
DTSTAMP:20260420T033833
CREATED:20250710T080243Z
LAST-MODIFIED:20250710T080243Z
UID:92006-1756713600-1757091600@www.gantner-instruments.com
SUMMARY:SHMII 2025: Echtzeit-Strukturüberwachung im Fokus
DESCRIPTION:Gantner Instruments nimmt an der 13. Internationalen Konferenz zum Structural Health Monitoring intelligenter Infrastrukturen (SHMII) teil\, die vom 1. bis 5. September 2025 in Graz\, Österreich\, stattfindet.
URL:https://www.gantner-instruments.com/de/event/shmii-2025-echtzeit-strukturueberwachung-im-fokus/
LOCATION:shmii Graz\, Graz University of Technology\, Rechbauerstraße 12\, Graz\, 8010\, Austria
ATTACH;FMTTYPE=image/png:https://www.gantner-instruments.com/wp-content/uploads/2025/07/shmii-structural-health-austria-header.png
END:VEVENT
BEGIN:VEVENT
DTSTART;TZID=UTC:20250902T080000
DTEND;TZID=UTC:20250904T170000
DTSTAMP:20260420T033833
CREATED:20250729T080610Z
LAST-MODIFIED:20250729T080610Z
UID:92438-1756800000-1757005200@www.gantner-instruments.com
SUMMARY:Gantner Instruments auf der Oil & Gas Asia (OGA) 2025
DESCRIPTION:Nehmen Sie mit Gantner Instruments an der Oil & Gas Asia (OGA) 2025 teil\, einer der wichtigsten Veranstaltungen für Energieinnovationen in Asien\, die vom 2. bis 4. September im Kuala Lumpur Convention Centre stattfindet.
URL:https://www.gantner-instruments.com/de/event/gantner-instruments-auf-der-oil-gas-asia-oga-2025/
LOCATION:Kuala Lumpur Convention Centre\, Jalan Pinang\, Kuala Lumpur City Centre (KLCC)\, Wilayah Persekutuan Kuala Lumpur\, 50088\, Malaysia
ATTACH;FMTTYPE=image/png:https://www.gantner-instruments.com/wp-content/uploads/2025/07/oil-gas-asia.png
END:VEVENT
BEGIN:VEVENT
DTSTART;TZID=UTC:20250908T080000
DTEND;TZID=UTC:20250908T170000
DTSTAMP:20260420T033833
CREATED:20250908T131007Z
LAST-MODIFIED:20250908T131007Z
UID:93186-1757318400-1757350800@www.gantner-instruments.com
SUMMARY:Industrial Transformation ASIA PACIFIC 2025
DESCRIPTION:Begleite Gantner Instruments auf der ITAP 2025 in Singapur. Entdecke intelligente Fertigung\, präzise Datenlösungen und Innovationen\, die die Zukunft der Industrie gestalten.
URL:https://www.gantner-instruments.com/de/event/industrial-transformation-asia-pacific-2025/
LOCATION:Mecklenburg-Vorpommern
END:VEVENT
BEGIN:VEVENT
DTSTART;TZID=UTC:20250909T080000
DTEND;TZID=UTC:20251011T170000
DTSTAMP:20260420T033833
CREATED:20250828T125226Z
LAST-MODIFIED:20250828T125516Z
UID:92967-1757404800-1760202000@www.gantner-instruments.com
SUMMARY:15th International Workshop on Structural Health Monitoring (IWSHM 2025)
DESCRIPTION:The 15th International Workshop on Structural Health Monitoring (IWSHM 2025) will take place from September 9 to 11\, 2025\, at Stanford University\, CA. This event is one of the premier global forums for advancing SHM research\, applications\, and technologies.
URL:https://www.gantner-instruments.com/de/event/15th-international-workshop-on-structural-health-monitoring-iwshm-2025/
LOCATION:Standford University\, 450 Serra Mall\, Stanford\, 94305\, United States
ATTACH;FMTTYPE=image/png:https://www.gantner-instruments.com/wp-content/uploads/2025/08/blog-header-event-2025-7.png
END:VEVENT
BEGIN:VEVENT
DTSTART;TZID=UTC:20250924T080000
DTEND;TZID=UTC:20250925T170000
DTSTAMP:20260420T033833
CREATED:20250710T080535Z
LAST-MODIFIED:20250710T080535Z
UID:92007-1758700800-1758819600@www.gantner-instruments.com
SUMMARY:Gantner Instruments auf der 4. Rostocker Schiffsmotoren-Konferenz
DESCRIPTION:Die Rostocker Schiffsmotoren-Konferenz geht in die vierte Runde. Sie bringt Branchenführer und technische Experten zusammen\, um Innovationen in der Schiffsantriebs- und Energiesystemtechnik zu diskutieren.
URL:https://www.gantner-instruments.com/de/event/gantner-instruments-auf-der-4-rostocker-schiffsmotoren-konferenz/
LOCATION:4th Rostock Ship Engine Conference\, Hotel Neptun\, Am Yachthafen 1\, Hotel Neptun\, Am Yachthafen 1Rostock – Warnemünde\, 18119\, Germany
ATTACH;FMTTYPE=image/png:https://www.gantner-instruments.com/wp-content/uploads/2025/07/rostock-ship-machinery-conference-germany-header.png
END:VEVENT
BEGIN:VEVENT
DTSTART;TZID=UTC:20250930T080000
DTEND;TZID=UTC:20251001T170000
DTSTAMP:20260420T033833
CREATED:20250828T084424Z
LAST-MODIFIED:20250828T084424Z
UID:92937-1759219200-1759338000@www.gantner-instruments.com
SUMMARY:Aerospace Test & Development Show 2025
DESCRIPTION:Besuchen Sie uns vom 30. September bis 1. Oktober 2025 am Stand 301 in Toulouse auf der Aerospace Test & Development Show.
URL:https://www.gantner-instruments.com/de/event/aerospace-test-development-show-2025/
LOCATION:MEETT\, Concorde Avenue (Avenue du Concorde)\, 31840 Aussonne\, France\, Aussonne\, Haute-Garonne (Occitanie region)\, 31840
ATTACH;FMTTYPE=image/png:https://www.gantner-instruments.com/wp-content/uploads/2024/05/aerospace-test-and-development-show-france-header-1.png
END:VEVENT
END:VCALENDAR