BEGIN:VCALENDAR
VERSION:2.0
PRODID:-//Gantner Instruments - ECPv6.15.18//NONSGML v1.0//EN
CALSCALE:GREGORIAN
METHOD:PUBLISH
X-WR-CALNAME:Gantner Instruments
X-ORIGINAL-URL:https://www.gantner-instruments.com/de/
X-WR-CALDESC:Veranstaltungen für Gantner Instruments
REFRESH-INTERVAL;VALUE=DURATION:PT1H
X-Robots-Tag:noindex
X-PUBLISHED-TTL:PT1H
BEGIN:VTIMEZONE
TZID:UTC
BEGIN:STANDARD
TZOFFSETFROM:+0000
TZOFFSETTO:+0000
TZNAME:UTC
DTSTART:20240101T000000
END:STANDARD
END:VTIMEZONE
BEGIN:VEVENT
DTSTART;TZID=UTC:20250701T080000
DTEND;TZID=UTC:20250704T170000
DTSTAMP:20260420T070210
CREATED:20250514T095143Z
LAST-MODIFIED:20250514T095143Z
UID:91660-1751356800-1751648400@www.gantner-instruments.com
SUMMARY:Treffen Sie Gantner Instruments auf dem Europäischen Brennstoffzellenforum 2025
DESCRIPTION:Entdecken Sie modernste Brennstoffzellen-Diagnostik mit Gantner Instruments auf der EFCF 2025! Besuchen Sie Stand B18 für eine Live-Demo unserer fortschrittlichen EIS-Lösung.
URL:https://www.gantner-instruments.com/de/event/treffen-sie-gantner-instruments-auf-dem-europaeischen-brennstoffzellenforum-2025/
LOCATION:Kultur- und Kongresszentrum Luzern (KKL Luzern)\, Europaplatz 1\, Luzern\, 6005\, Switzerland
ATTACH;FMTTYPE=image/png:https://www.gantner-instruments.com/wp-content/uploads/2025/05/efcf-luzern-2025-event.png
END:VEVENT
BEGIN:VEVENT
DTSTART;TZID=UTC:20250702T080000
DTEND;TZID=UTC:20250704T170000
DTSTAMP:20260420T070210
CREATED:20250618T100551Z
LAST-MODIFIED:20250618T100551Z
UID:91063-1751443200-1751648400@www.gantner-instruments.com
SUMMARY:EVACES-Konferenz 2025 in Portugal
DESCRIPTION:Gantner Instruments wird auf der EVACES 2025 in Portugal vertreten sein. Entdecken Sie unsere neuesten Lösungen zur Schwingungsüberwachung im Infrastruktur und Bauwesen.
URL:https://www.gantner-instruments.com/de/event/evaces-konferenz-2025-in-portugal/
LOCATION:Faculdade de Engenharia da Universidade do Porto (FEUP)\, Rua Dr. Roberto Frias\, s/n\, 4200‑465 Porto\, Portugal
ATTACH;FMTTYPE=image/png:https://www.gantner-instruments.com/wp-content/uploads/2025/06/evaces-portugal-2025-event.png
END:VEVENT
END:VCALENDAR