BEGIN:VCALENDAR
VERSION:2.0
PRODID:-//Gantner Instruments - ECPv6.15.18//NONSGML v1.0//EN
CALSCALE:GREGORIAN
METHOD:PUBLISH
X-ORIGINAL-URL:https://www.gantner-instruments.com/de/
X-WR-CALDESC:Veranstaltungen für Gantner Instruments
REFRESH-INTERVAL;VALUE=DURATION:PT1H
X-Robots-Tag:noindex
X-PUBLISHED-TTL:PT1H
BEGIN:VTIMEZONE
TZID:UTC
BEGIN:STANDARD
TZOFFSETFROM:+0000
TZOFFSETTO:+0000
TZNAME:UTC
DTSTART:20240101T000000
END:STANDARD
END:VTIMEZONE
BEGIN:VEVENT
DTSTART;TZID=UTC:20250603T090000
DTEND;TZID=UTC:20250605T163000
DTSTAMP:20260420T090226
CREATED:20250304T161530Z
LAST-MODIFIED:20250311T104059Z
UID:89727-1748941200-1749141000@www.gantner-instruments.com
SUMMARY:Die Battery Show Europe 2025
DESCRIPTION:Sind Sie neugierig auf Gantner Instruments’ neueste Innovationen? Lesen Sie unseren Blog über Batterietests und entdecken Sie\, was wir für die The Battery Show Europe 2025 auf Lager haben!
URL:https://www.gantner-instruments.com/de/event/die-battery-show-europe-2025/
LOCATION:Messe Stuttgart\, Messepiazza 1\, Stuttgart\, 70629\, Germany
ATTACH;FMTTYPE=image/png:https://www.gantner-instruments.com/wp-content/uploads/2025/02/2506-battery-show-eu.png
END:VEVENT
END:VCALENDAR