BEGIN:VCALENDAR
VERSION:2.0
PRODID:-//Gantner Instruments - ECPv6.15.18//NONSGML v1.0//EN
CALSCALE:GREGORIAN
METHOD:PUBLISH
X-ORIGINAL-URL:https://www.gantner-instruments.com/de/
X-WR-CALDESC:Veranstaltungen für Gantner Instruments
REFRESH-INTERVAL;VALUE=DURATION:PT1H
X-Robots-Tag:noindex
X-PUBLISHED-TTL:PT1H
BEGIN:VTIMEZONE
TZID:UTC
BEGIN:STANDARD
TZOFFSETFROM:+0000
TZOFFSETTO:+0000
TZNAME:UTC
DTSTART:20240101T000000
END:STANDARD
END:VTIMEZONE
BEGIN:VEVENT
DTSTART;TZID=UTC:20250506T090000
DTEND;TZID=UTC:20250507T163000
DTSTAMP:20260422T105423
CREATED:20250304T165324Z
LAST-MODIFIED:20250311T104038Z
UID:89726-1746522000-1746635400@www.gantner-instruments.com
SUMMARY:GI.training in NRW 2025
DESCRIPTION:Besuchen Sie Gantner Instruments auf der Automotive Testing Expo North America 2025 in Novi! Besuchen Sie vom 21. bis 23. Oktober den Stand 8060 für Innovationen.
URL:https://www.gantner-instruments.com/de/event/gi-training-in-nrw-2025/
LOCATION:Lennhof – Dortmund\, Menglinghauser Str. 20\, Dortmund\, 44227\, Germany
ATTACH;FMTTYPE=image/png:https://www.gantner-instruments.com/wp-content/uploads/2025/02/2505-gi-training.png
END:VEVENT
BEGIN:VEVENT
DTSTART;TZID=UTC:20250513T080000
DTEND;TZID=UTC:20250514T170000
DTSTAMP:20260422T105423
CREATED:20250416T125157Z
LAST-MODIFIED:20250417T114518Z
UID:90665-1747123200-1747242000@www.gantner-instruments.com
SUMMARY:PV Performance Modeling Collaborative Workshop 2025
DESCRIPTION:Erweiterte Modellierung und Überwachung der PV-Leistung
URL:https://www.gantner-instruments.com/de/event/pv-performance-modeling-collaborative-workshop-2025/
LOCATION:Hotel Albuquerque at Old Town\, Rio Grande Blvd NW\, Albuquerque\, NM 87104\, 800\, United States
ATTACH;FMTTYPE=image/png:https://www.gantner-instruments.com/wp-content/uploads/2025/04/pvpmc-event-2025-header-jsu.png
END:VEVENT
BEGIN:VEVENT
DTSTART;TZID=UTC:20250515T080000
DTEND;TZID=UTC:20250517T170000
DTSTAMP:20260422T105423
CREATED:20250429T092421Z
LAST-MODIFIED:20250429T092421Z
UID:90806-1747296000-1747501200@www.gantner-instruments.com
SUMMARY:Internationale Batteriemesse China - CIBF 2025
DESCRIPTION:Besuchen Sie Gantner Instruments am Stand 10B195 während der 17. China International Battery Fair (CIBF2025) in Shenzhen.
URL:https://www.gantner-instruments.com/de/event/internationale-batteriemesse-china-cibf-2025/
LOCATION:CIBF China\, No. 1 Zhancheng Road\, Fuhai Street\, Bao'an District\, Shenzhen\, Guangdong\, 518103\, China
ATTACH;FMTTYPE=image/png:https://www.gantner-instruments.com/wp-content/uploads/2025/04/cibf-2025-header.png
END:VEVENT
BEGIN:VEVENT
DTSTART;TZID=UTC:20250520T080000
DTEND;TZID=UTC:20250522T170000
DTSTAMP:20260422T105423
CREATED:20250320T081025Z
LAST-MODIFIED:20250320T081025Z
UID:90166-1747728000-1747933200@www.gantner-instruments.com
SUMMARY:Automotive Testing Expo Europa 2025
DESCRIPTION:Entdecken Sie Gantner Instruments’ innovative Testlösungen für effizientere Entwicklungszyklen auf der Automotive Testing Expo Europe 2025 – besuchen Sie uns an Stand 1464 in Halle 10!
URL:https://www.gantner-instruments.com/de/event/automotive-testing-expo-europa-2025/
LOCATION:Messe Stuttgart\, Messepiazza 1\, Stuttgart\, 70629\, Germany
ATTACH;FMTTYPE=image/png:https://www.gantner-instruments.com/wp-content/uploads/2025/03/atx-eu-2025.png
END:VEVENT
BEGIN:VEVENT
DTSTART;TZID=UTC:20250521T080000
DTEND;TZID=UTC:20250523T170000
DTSTAMP:20260422T105423
CREATED:20250408T094925Z
LAST-MODIFIED:20250408T094925Z
UID:90605-1747814400-1748019600@www.gantner-instruments.com
SUMMARY:Hydrogen Expo Italien 2025
DESCRIPTION:Besuchen Sie Gantner Instruments am Stand C171 auf der Hydrogen Expo Italien 2025 und erkunden Sie fortschrittliche Datenerfassungslösungen\, die wasserstoffspezifische Messprobleme lösen und eine schnellere Optimierung ermöglichen.
URL:https://www.gantner-instruments.com/de/event/hydrogen-expo-italien-2025/
LOCATION:Piacenza Italy\, Via Tirotti 11\, Fraz. Le Mose\, Piacenza\, Emilia-Romagna\, 29100\, Italy
ATTACH;FMTTYPE=image/png:https://www.gantner-instruments.com/wp-content/uploads/2025/04/event-hydrogen-expo-ita-2025-header.png
END:VEVENT
BEGIN:VEVENT
DTSTART;TZID=UTC:20250521T080000
DTEND;TZID=UTC:20250523T170000
DTSTAMP:20260422T105423
CREATED:20250424T124619Z
LAST-MODIFIED:20250424T124619Z
UID:90760-1747814400-1748019600@www.gantner-instruments.com
SUMMARY:Gantner Instruments nimmt an der i-MAP teil
DESCRIPTION:Die CSIR-SERC Diamond Jubilee Conference on i-MAP wird vom 21. bis 23. Mai 2025 in Chennai stattfinden.
URL:https://www.gantner-instruments.com/de/event/gantner-instruments-nimmt-an-der-i-map-teil/
LOCATION:Vigyan Auditorium\, CSIR-Structural Engineering Research Centre CSIR Campus\, Taramani\, Vigyan Auditorium\, CSIR-Structural Engineering Research Centre\, CSIR Campus\, CSIR Road\, Taramani\, Chennai\, Tamil Nadu\, 600113\, India
ATTACH;FMTTYPE=image/png:https://www.gantner-instruments.com/wp-content/uploads/2025/04/event-i-map-india-header.png
END:VEVENT
END:VCALENDAR