BEGIN:VCALENDAR
VERSION:2.0
PRODID:-//Gantner Instruments - ECPv6.15.18//NONSGML v1.0//EN
CALSCALE:GREGORIAN
METHOD:PUBLISH
X-WR-CALNAME:Gantner Instruments
X-ORIGINAL-URL:https://www.gantner-instruments.com/de/
X-WR-CALDESC:Veranstaltungen für Gantner Instruments
REFRESH-INTERVAL;VALUE=DURATION:PT1H
X-Robots-Tag:noindex
X-PUBLISHED-TTL:PT1H
BEGIN:VTIMEZONE
TZID:UTC
BEGIN:STANDARD
TZOFFSETFROM:+0000
TZOFFSETTO:+0000
TZNAME:UTC
DTSTART:20240101T000000
END:STANDARD
END:VTIMEZONE
BEGIN:VEVENT
DTSTART;TZID=UTC:20250331T090000
DTEND;TZID=UTC:20250402T170000
DTSTAMP:20260422T124307
CREATED:20250218T160742Z
LAST-MODIFIED:20250311T103918Z
UID:89730-1743411600-1743613200@www.gantner-instruments.com
SUMMARY:Sensor Shenzhen China 2025
DESCRIPTION:Die Sensor Shenzhen 2025 ist die wichtigste Veranstaltung für Sensorinnovation\, Automatisierung und Präzisionsmessung und bietet Fachleuten Einblicke in die neuesten Entwicklungen.
URL:https://www.gantner-instruments.com/de/event/sensor-shenzhen-china-2025/
LOCATION:Shenzhen Convention Center\, China
ATTACH;FMTTYPE=image/png:https://www.gantner-instruments.com/wp-content/uploads/2025/02/2503-sensor-shenzhen.png
END:VEVENT
BEGIN:VEVENT
DTSTART;VALUE=DATE:20250401
DTEND;VALUE=DATE:20250402
DTSTAMP:20260422T124307
CREATED:20250317T091630Z
LAST-MODIFIED:20250317T091630Z
UID:90072-1743465600-1743551999@www.gantner-instruments.com
SUMMARY:Gantner Instruments auf der Batteriekonferenz 2025 in Aachen
DESCRIPTION:Gantner Instruments wird auf der Battery Conference 2025 in Aachen\, einschließlich des Battery Day NRW am 1. April\, hochpräzise Messlösungen für Batterietests vorstellen.
URL:https://www.gantner-instruments.com/de/event/gantner-instruments-auf-der-batteriekonferenz-2025-in-aachen/
LOCATION:Haus der Technik e. V. Germany\, Hollestr. 1\, Essen\, 45127\, Germany
ATTACH;FMTTYPE=image/png:https://www.gantner-instruments.com/wp-content/uploads/2025/03/2504-batterietagung-header.png
END:VEVENT
BEGIN:VEVENT
DTSTART;TZID=UTC:20250403T090000
DTEND;TZID=UTC:20250404T163000
DTSTAMP:20260422T124307
CREATED:20250304T161745Z
LAST-MODIFIED:20250311T103952Z
UID:89729-1743670800-1743784200@www.gantner-instruments.com
SUMMARY:Messtechnik zum Anfassen bei Stiegele 2025
DESCRIPTION:Kommen Sie am 3. und 4. April 2025 mit den besten Experten der Stiegele Datensysteme GmbH zum Hands-On Measurement Technology Symposium!
URL:https://www.gantner-instruments.com/de/event/messtechnik-zum-anfassen-bei-stiegele-2025/
LOCATION:STIEGELE Datensysteme GmbH\, Herrngasse 14\, Rothenburg ob der Tauber\, 91541\, Germany
ATTACH;FMTTYPE=image/png:https://www.gantner-instruments.com/wp-content/uploads/2025/02/2504-stiegele.png
END:VEVENT
BEGIN:VEVENT
DTSTART;TZID=UTC:20250408T090000
DTEND;TZID=UTC:20250410T163000
DTSTAMP:20260422T124307
CREATED:20250304T162021Z
LAST-MODIFIED:20250311T104019Z
UID:89728-1744102800-1744302600@www.gantner-instruments.com
SUMMARY:Automotive Testing Expo Indien 2025
DESCRIPTION:Besuchen Sie Gantner Instruments in Indien auf der Automotive Testing Expo 2025! Besuchen Sie uns am Stand 4080\, Chennai Trade Centre\, vom 8. bis 10. April.
URL:https://www.gantner-instruments.com/de/event/automotive-testing-expo-indien-2025/
LOCATION:Chennai Trade Centre\, Off Porur Road\, Nandambakkam\, Chennai\, 600089\, India
ATTACH;FMTTYPE=image/png:https://www.gantner-instruments.com/wp-content/uploads/2025/02/2504-atx-india.png
END:VEVENT
BEGIN:VEVENT
DTSTART;TZID=UTC:20250415T080000
DTEND;TZID=UTC:20250416T170000
DTSTAMP:20260422T124307
CREATED:20250317T140824Z
LAST-MODIFIED:20250317T140824Z
UID:90163-1744704000-1744822800@www.gantner-instruments.com
SUMMARY:Gantner Instruments auf der E-TECH Europe 2025
DESCRIPTION:Die E-TECH EUROPE kehrt zu ihrer vierten Ausgabe zurück und bringt Branchenführer zusammen\, die die Zukunft der EV- und Batterietechnologie gestalten.
URL:https://www.gantner-instruments.com/de/event/gantner-instruments-auf-der-e-tech-europe-2025/
LOCATION:E-Tech Europa\, Via Antonio Gramsci 57\, Cormano (MI)\, 20032\, Italy
ATTACH;FMTTYPE=image/png:https://www.gantner-instruments.com/wp-content/uploads/2025/02/e-tech-europe-header-new.png
END:VEVENT
BEGIN:VEVENT
DTSTART;TZID=UTC:20250416T080000
DTEND;TZID=UTC:20250417T170000
DTSTAMP:20260422T124307
CREATED:20250325T144556Z
LAST-MODIFIED:20250325T144556Z
UID:90766-1744790400-1744909200@www.gantner-instruments.com
SUMMARY:Battery Show Atlanta 2025
DESCRIPTION:Fortschrittliche Batterietests mit hochpräzisen Messlösungen
URL:https://www.gantner-instruments.com/de/event/battery-show-atlanta-2025/
LOCATION:Georgia World Congress Center\, 285 Andrew Young International Blvd NW\, Atlanta\, United States
ATTACH;FMTTYPE=image/png:https://www.gantner-instruments.com/wp-content/uploads/2025/03/battery-show-south-header.png
END:VEVENT
BEGIN:VEVENT
DTSTART;VALUE=DATE:20250429
DTEND;VALUE=DATE:20250430
DTSTAMP:20260422T124307
CREATED:20250325T144714Z
LAST-MODIFIED:20250325T144714Z
UID:90763-1745884800-1745971199@www.gantner-instruments.com
SUMMARY:Instrumentation\, Analysis\, and Testing Exhibition 2025
DESCRIPTION:Gantner Instruments auf der Instrumentation\, Analysis\, and Testing Exhibition 2025!
URL:https://www.gantner-instruments.com/de/event/instrumentation-analysis-and-testing-exhibition-2025/
LOCATION:Silverstone Circuit\, Silverstone Circuit\, Towcester\, United Kingdom
ATTACH;FMTTYPE=image/png:https://www.gantner-instruments.com/wp-content/uploads/2025/03/eis-silverstone-uk-2025.png
END:VEVENT
BEGIN:VEVENT
DTSTART;TZID=UTC:20250429T080000
DTEND;TZID=UTC:20250429T170000
DTSTAMP:20260422T124307
CREATED:20250429T092218Z
LAST-MODIFIED:20250429T092218Z
UID:90809-1745913600-1745946000@www.gantner-instruments.com
SUMMARY:Ausstellung für Instrumentierung\, Analyse und Tests 2025
DESCRIPTION:Besuchen Sie uns auf der wichtigsten Veranstaltung im Ingenieurskalender – der Instrumentation\, Analysis & Testing Exhibition 2025\, die auf der legendären Silverstone Rennstrecke in Großbritannien stattfindet.
URL:https://www.gantner-instruments.com/de/event/ausstellung-fuer-instrumentierung-analyse-und-tests-2025/
LOCATION:Halls 4 & 5\, Silverstone Wing\, Silverstone Race Circuit\, Silverstone Circuit\, Silverstone Wing\, Towcester\, Northamptonshire\, NN12 8TN\, United Kingdom
ATTACH;FMTTYPE=image/png:https://www.gantner-instruments.com/wp-content/uploads/2025/04/eis-silverstone-uk-2025.png
END:VEVENT
END:VCALENDAR