BEGIN:VCALENDAR
VERSION:2.0
PRODID:-//Gantner Instruments - ECPv6.15.18//NONSGML v1.0//EN
CALSCALE:GREGORIAN
METHOD:PUBLISH
X-WR-CALNAME:Gantner Instruments
X-ORIGINAL-URL:https://www.gantner-instruments.com/de/
X-WR-CALDESC:Veranstaltungen für Gantner Instruments
REFRESH-INTERVAL;VALUE=DURATION:PT1H
X-Robots-Tag:noindex
X-PUBLISHED-TTL:PT1H
BEGIN:VTIMEZONE
TZID:Europe/Vienna
BEGIN:DAYLIGHT
TZOFFSETFROM:+0100
TZOFFSETTO:+0200
TZNAME:CEST
DTSTART:20240331T010000
END:DAYLIGHT
BEGIN:STANDARD
TZOFFSETFROM:+0200
TZOFFSETTO:+0100
TZNAME:CET
DTSTART:20241027T010000
END:STANDARD
BEGIN:DAYLIGHT
TZOFFSETFROM:+0100
TZOFFSETTO:+0200
TZNAME:CEST
DTSTART:20250330T010000
END:DAYLIGHT
BEGIN:STANDARD
TZOFFSETFROM:+0200
TZOFFSETTO:+0100
TZNAME:CET
DTSTART:20251026T010000
END:STANDARD
BEGIN:DAYLIGHT
TZOFFSETFROM:+0100
TZOFFSETTO:+0200
TZNAME:CEST
DTSTART:20260329T010000
END:DAYLIGHT
BEGIN:STANDARD
TZOFFSETFROM:+0200
TZOFFSETTO:+0100
TZNAME:CET
DTSTART:20261025T010000
END:STANDARD
END:VTIMEZONE
BEGIN:VTIMEZONE
TZID:UTC
BEGIN:STANDARD
TZOFFSETFROM:+0000
TZOFFSETTO:+0000
TZNAME:UTC
DTSTART:20240101T000000
END:STANDARD
END:VTIMEZONE
BEGIN:VEVENT
DTSTART;TZID=Europe/Vienna:20250311T143000
DTEND;TZID=Europe/Vienna:20250311T200000
DTSTAMP:20260422T142834
CREATED:20250306T091431Z
LAST-MODIFIED:20250311T092812Z
UID:89733-1741703400-1741723200@www.gantner-instruments.com
SUMMARY:Seconds Matter: Echtzeit-Entscheidungen für intelligentere Energiesysteme
DESCRIPTION:Erkunden Sie mit Jürgen Sutterlueti auf dem IIoT World Energy Day 2025\, wie Echtzeit-Datenstreaming die Effizienz moderner Energiesysteme steigert.
URL:https://www.gantner-instruments.com/de/event/seconds-matter-echtzeit-entscheidungen-fuer-intelligentere-energiesysteme/
LOCATION:Mecklenburg-Vorpommern
ATTACH;FMTTYPE=image/png:https://www.gantner-instruments.com/wp-content/uploads/2025/03/iiot-webinar-header-2.png
END:VEVENT
BEGIN:VEVENT
DTSTART;VALUE=DATE:20250314
DTEND;VALUE=DATE:20250315
DTSTAMP:20260422T142834
CREATED:20250127T092328Z
LAST-MODIFIED:20250311T074131Z
UID:89732-1741910400-1741996799@www.gantner-instruments.com
SUMMARY:FHV Jobmesse 2025
DESCRIPTION:Gantner Instruments wird am 14. März 2025 an der größten Jobmesse der Region teilnehmen.
URL:https://www.gantner-instruments.com/de/event/fhv-jobmesse-2025/
LOCATION:FHV – Vorarlberg University of Applied Sciences\, Hochschulstraße 1\, Dornbirn\, 6850\, Austria
ATTACH;FMTTYPE=image/png:https://www.gantner-instruments.com/wp-content/uploads/2025/03/2503-fh-jobmesse-2025.png
END:VEVENT
BEGIN:VEVENT
DTSTART;TZID=UTC:20250319T090000
DTEND;TZID=UTC:20250320T160000
DTSTAMP:20260422T142834
CREATED:20250302T135116Z
LAST-MODIFIED:20250311T095308Z
UID:89731-1742374800-1742486400@www.gantner-instruments.com
SUMMARY:34. Dresdner Brückenbausymposium 2025
DESCRIPTION:Wir freuen uns\, das 34. Dresdner Brückenbau-Symposium (DBBS) ankündigen zu können\, das am 19. und 20. März 2025 stattfinden wird.
URL:https://www.gantner-instruments.com/de/event/34-dresdner-brueckenbausymposium-2025/
LOCATION:Messe Dresden DBBS\, Messering 6\, Dresden (Germany)\, 01067
ATTACH;FMTTYPE=image/png:https://www.gantner-instruments.com/wp-content/uploads/2025/03/2503-dbbs.png
END:VEVENT
BEGIN:VEVENT
DTSTART;TZID=UTC:20250320T090000
DTEND;TZID=UTC:20250321T163000
DTSTAMP:20260422T142834
CREATED:20250304T163458Z
LAST-MODIFIED:20250311T074153Z
UID:89734-1742461200-1742574600@www.gantner-instruments.com
SUMMARY:Aero Engine Testing China 2025
DESCRIPTION:Nehmen Sie am 20. und 21. März 2025 in Mianyang an der Aerospace Equipment Digital Intelligence Test Conference teil!
URL:https://www.gantner-instruments.com/de/event/aero-engine-testing-china-2025/
LOCATION:Aero Engine Testing China\, Xiuwen-Straße Number 898\, 5\, 607\, Shanghai\, Minhang\, China
ATTACH;FMTTYPE=image/png:https://www.gantner-instruments.com/wp-content/uploads/2025/02/2503-aero-engine-testing.png
END:VEVENT
BEGIN:VEVENT
DTSTART;TZID=UTC:20250331T090000
DTEND;TZID=UTC:20250402T170000
DTSTAMP:20260422T142834
CREATED:20250218T160742Z
LAST-MODIFIED:20250311T103918Z
UID:89730-1743411600-1743613200@www.gantner-instruments.com
SUMMARY:Sensor Shenzhen China 2025
DESCRIPTION:Die Sensor Shenzhen 2025 ist die wichtigste Veranstaltung für Sensorinnovation\, Automatisierung und Präzisionsmessung und bietet Fachleuten Einblicke in die neuesten Entwicklungen.
URL:https://www.gantner-instruments.com/de/event/sensor-shenzhen-china-2025/
LOCATION:Shenzhen Convention Center\, China
ATTACH;FMTTYPE=image/png:https://www.gantner-instruments.com/wp-content/uploads/2025/02/2503-sensor-shenzhen.png
END:VEVENT
END:VCALENDAR